BEGIN:VCALENDAR
VERSION:2.0
PRODID:-//wp-events-plugin.com//7.2.3.1//EN
TZID:Europe/Amsterdam
X-WR-TIMEZONE:Europe/Amsterdam
BEGIN:VEVENT
UID:4@defonteinapeldoorn.nl
DTSTART;TZID=Europe/Amsterdam:20240821T000000
DTEND;TZID=Europe/Amsterdam:20240821T000000
DTSTAMP:20240819T134653Z
URL:https://defonteinapeldoorn.nl/events/testtest/
SUMMARY:testtest
DESCRIPTION:testberct
ATTACH;FMTTYPE=image/jpeg:https://defonteinapeldoorn.nl/wp-content/uploads
 /2024/08/Kidskledingmarkt.png
LOCATION:Wijkcentrum Kristal - Zuidbroek\, Distelvlinderlaan 200\, Apeldoor
 n\, Nederland
GEO:52.236112;5.995940
X-APPLE-STRUCTURED-LOCATION;VALUE=URI;X-ADDRESS=Distelvlinderlaan 200\, Ape
 ldoorn\, Nederland;X-APPLE-RADIUS=100;X-TITLE=Wijkcentrum Kristal - Zuidbr
 oek:geo:52.236112,5.995940
END:VEVENT
BEGIN:VTIMEZONE
TZID:Europe/Amsterdam
X-LIC-LOCATION:Europe/Amsterdam
BEGIN:DAYLIGHT
DTSTART:20240331T030000
TZOFFSETFROM:+0100
TZOFFSETTO:+0200
TZNAME:CEST
END:DAYLIGHT
END:VTIMEZONE
END:VCALENDAR